BEGIN:VCALENDAR
VERSION:2.0
PRODID:-//eventon.com NONSGML v1.0//EN
CALSCALE:GREGORIAN
METHOD:PUBLISH
BEGIN:VEVENT
UID:69ea10f4080d6
DTSTAMP:20260423T123044Z
DTSTART:20260924T220000Z
DTEND:20260924T230000Z
LOCATION:Grillade La bohème 955 Rue Richelieu
SUMMARY:Souper-spectacle en humour : FAF
DESCRIPTION:Souper 18h00 &#8211; Spectacle 20h30 Spectacle : 35$ &amp; Soup
 er-spectacle : 85$\nhttps://www.ville.lamalbaie.qc.ca/Les événements/soup
 er-spectacle-en-humour-faf/
URL:https://www.ville.lamalbaie.qc.ca/Les événements/souper-spectacle-en-humour-faf/
END:VEVENT
END:VCALENDAR