BEGIN:VCALENDAR
VERSION:2.0
PRODID:-//eventon.com NONSGML v1.0//EN
CALSCALE:GREGORIAN
METHOD:PUBLISH
BEGIN:VEVENT
UID:69ea11223f74f
DTSTAMP:20260423T123130Z
DTSTART:20260618T220000Z
DTEND:20260618T230000Z
LOCATION:Grillade La bohème 955 Rue Richelieu
SUMMARY:Souper-spectacle en humour : DANO - BOULIANNE
DESCRIPTION:Souper 18h00 &#8211; Spectacle 20h30 Spectacle : 25$ &amp; Soup
 er-spectacle : 75$\nhttps://www.ville.lamalbaie.qc.ca/Les événements/soup
 er-spectacle-en-humour-dano-boulianne/
URL:https://www.ville.lamalbaie.qc.ca/Les événements/souper-spectacle-en-humour-dano-boulianne/
END:VEVENT
END:VCALENDAR