BEGIN:VCALENDAR
VERSION:2.0
PRODID:-//eventon.com NONSGML v1.0//EN
CALSCALE:GREGORIAN
METHOD:PUBLISH
BEGIN:VEVENT
UID:69ea1137aa1ad
DTSTAMP:20260423T123151Z
DTSTART:20260612T220000Z
DTEND:20260612T230000Z
LOCATION:Grillade La bohème 955 Rue Richelieu
SUMMARY:Souper-spectacle : HOMMAGE À OFFENBACH
DESCRIPTION:Souper 18h00 &#8211; Spectacle 20h30 Spectacle : 20$ &amp; Soup
 er-spectacle : 70$\nhttps://www.ville.lamalbaie.qc.ca/Les événements/soup
 er-spectacle-hommage-a-offenbach/
URL:https://www.ville.lamalbaie.qc.ca/Les événements/souper-spectacle-hommage-a-offenbach/
END:VEVENT
END:VCALENDAR