BEGIN:VCALENDAR
VERSION:2.0
PRODID:-//eventon.com NONSGML v1.0//EN
CALSCALE:GREGORIAN
METHOD:PUBLISH
BEGIN:VEVENT
UID:69ea1160d0994
DTSTAMP:20260423T123232Z
DTSTART:20260605T220000Z
DTEND:20260605T230000Z
LOCATION:Grillade La bohème 955 Rue Richelieu
SUMMARY:Souper-spectacle en humour : DANIEL GRENIER
DESCRIPTION:Souper 18h00 &#8211; Spectacle 20h30 Spectacle : 30$ &amp; Soup
 er-spectacle : 80$\nhttps://www.ville.lamalbaie.qc.ca/Les événements/soup
 er-spectacle-en-humour-daniel-grenier/
URL:https://www.ville.lamalbaie.qc.ca/Les événements/souper-spectacle-en-humour-daniel-grenier/
END:VEVENT
END:VCALENDAR