BEGIN:VCALENDAR
VERSION:2.0
PRODID:-//eventon.com NONSGML v1.0//EN
CALSCALE:GREGORIAN
METHOD:PUBLISH
BEGIN:VEVENT
UID:69ea111d3429a
DTSTAMP:20260423T123125Z
DTSTART:20260529T220000Z
DTEND:20260529T230000Z
LOCATION:Grillade La bohème 955 Rue Richelieu
SUMMARY:Souper-spectacle : HOMMAGE À RED HOT CHILI PEPPERS
DESCRIPTION:Souper 18h00 &#8211; Spectacle 20h30 Spectacle : 30$ &amp; Soup
 er-spectacle : 80$\nhttps://www.ville.lamalbaie.qc.ca/Les événements/soup
 er-spectacle-hommage-a-red-hot-chili-peppers/
URL:https://www.ville.lamalbaie.qc.ca/Les événements/souper-spectacle-hommage-a-red-hot-chili-peppers/
END:VEVENT
END:VCALENDAR