BEGIN:VCALENDAR
VERSION:2.0
PRODID:-//eventon.com NONSGML v1.0//EN
CALSCALE:GREGORIAN
METHOD:PUBLISH
BEGIN:VEVENT
UID:69ea1190772ad
DTSTAMP:20260423T123320Z
DTSTART:20260508T220000Z
DTEND:20260508T230000Z
LOCATION:Grillade La bohÃ¨me 955 Rue Richelieu
SUMMARY:Souper-spectacle : RAIZ rock en espagnol
DESCRIPTION:Souper 18h00 &#8211; Spectacle 20h30 Spectacle : 20$ &amp; Soup
 er-spectacle : 70$ Billet : ici\nhttps://www.ville.lamalbaie.qc.ca/Les Ã©vÃ
 ©nements/souper-spectacle-raiz-rock-en-espagnol/
URL:https://www.ville.lamalbaie.qc.ca/Les Ã©vÃ©nements/souper-spectacle-raiz-rock-en-espagnol/
END:VEVENT
END:VCALENDAR