BEGIN:VCALENDAR
VERSION:2.0
PRODID:-//eventon.com NONSGML v1.0//EN
CALSCALE:GREGORIAN
METHOD:PUBLISH
BEGIN:VEVENT
UID:69e9174ac5fbb
DTSTAMP:20260422T184530Z
DTSTART:20260507T220000Z
DTEND:20260507T230000Z
LOCATION:Grillade La bohème 955 Rue Richelieu
SUMMARY:Souper-spectacle en humour : MAXIME GERVAIS
DESCRIPTION:Souper 18h00 &#8211; Spectacle 20h30 Spectacle : 25$ &amp; Soup
 er-spectacle : 75$ Billet : ici Spectacle de l&#8217;humoriste Maxime Gerva
 is à Grillade la Bohème.\nhttps://www.ville.lamalbaie.qc.ca/Les événeme
 nts/souper-spectacle-en-humour-maxime-gervais/
URL:https://www.ville.lamalbaie.qc.ca/Les événements/souper-spectacle-en-humour-maxime-gervais/
END:VEVENT
END:VCALENDAR