BEGIN:VCALENDAR
VERSION:2.0
PRODID:-//eventon.com NONSGML v1.0//EN
CALSCALE:GREGORIAN
METHOD:PUBLISH
BEGIN:VEVENT
UID:69e9d2a52eb5d
DTSTAMP:20260423T080453Z
DTSTART:20260424T220000Z
DTEND:20260424T230000Z
LOCATION:Grillade La bohÃ¨me 955 Rue Richelieu
SUMMARY:Souper-spectacle : GROS FUN SALE
DESCRIPTION:Souper 18h00 &#8211; Spectacle 20h30 Spectacle : 20$ &amp; Soup
 er-spectacle : 70$ Billet : ici Menu de lâ€™option souper-spectacle &#8212;
 &#8212;&#8212;&#8212;&#8212; ENTRÃ‰ES &#8211; Bruschettas au bÅ“uf effiloch
 Ã© &#8211; Bacon Maison &#8211; Salade du Chef &#8212;&#8212;&#8212;&#8212;
 &#8212; PLATS PRINCIPAUX &#8211; Burger Wagyu Migneron &#8211; Burger au BÅ
 “uf EffilochÃ© &#8211; Fish and Chips Ã [..]\nhttps://www.ville.lamalbaie.q
 c.ca/Les Ã©vÃ©nements/souper-spectacle-gros-fun-sale/
URL:https://www.ville.lamalbaie.qc.ca/Les Ã©vÃ©nements/souper-spectacle-gros-fun-sale/
END:VEVENT
END:VCALENDAR