BEGIN:VCALENDAR
VERSION:2.0
PRODID:-//eventon.com NONSGML v1.0//EN
CALSCALE:GREGORIAN
METHOD:PUBLISH
BEGIN:VEVENT
UID:69ebcb81ad330
DTSTAMP:20260424T195857Z
DTSTART:20260425T180000Z
DTEND:20260425T193000Z
LOCATION:Bibliothèque Laure-Conan 395 rue St-Étienne
SUMMARY:La fois où… j’ai dansé avec une cigogne sur Compostelle
DESCRIPTION:Présenté par l’autrice Amélie Dubois L’autrice vous pré
 sentera les grandes lignes de son pèlerinage de 740 km sur le mythique Cam
 ino Francès d’Espagne effectué en mai 2023 et ayant inspiré l’écrit
 ure de son roman « La fois où… j’ai dansé avec une cigogne ».  D
 u déclencheur de sa décision de repartir aux[..]\nhttps://www.ville.lamal
 baie.qc.ca/Les événements/la-fois-ou-jai-danse-avec-une-cigogne-sur-compo
 stelle/
URL:https://www.ville.lamalbaie.qc.ca/Les événements/la-fois-ou-jai-danse-avec-une-cigogne-sur-compostelle/
END:VEVENT
END:VCALENDAR