BEGIN:VCALENDAR
VERSION:2.0
PRODID:-//eventon.com NONSGML v1.0//EN
CALSCALE:GREGORIAN
METHOD:PUBLISH
BEGIN:VEVENT
UID:69e64db948f31
DTSTAMP:20260420T160057Z
DTSTART:20260420T173000Z
DTEND:20260420T174500Z
LOCATION:Centre-Femmes aux Plurielles 71\,  rue Sainte-Catherine
SUMMARY:Les Artisanes 2.0
DESCRIPTION:Nouveau projet &#8211; tricot couture\,  broderie\,  apprentiss
 ages et plus encore. Les lundis 12 et 26 janvier \,  9 et 23 février\,  9 
 et 23 mars\,  20 et 27 avril\,  4 et 18 mai et 8 juin\,  à 13h30 Inscripti
 on : 418 665-7459\nhttps://www.ville.lamalbaie.qc.ca/Les événements/les-a
 rtisanes-2-0/var/ri-6.l-L1
URL:https://www.ville.lamalbaie.qc.ca/Les événements/les-artisanes-2-0/var/ri-6.l-L1
END:VEVENT
END:VCALENDAR