BEGIN:VCALENDAR
VERSION:2.0
PRODID:-//eventon.com NONSGML v1.0//EN
CALSCALE:GREGORIAN
METHOD:PUBLISH
BEGIN:VEVENT
UID:69ecf25ece02e
DTSTAMP:20260425T165702Z
DTSTART:20250919T170000Z
DTEND:20250920T000000Z
LOCATION:Fairmont Le Manoir Richelieu 181 rue Richelieu
SUMMARY:Salon des Vins – Charlevoix 2025
DESCRIPTION:Le 19 septembre 2025\,  de 13h à 20h\,  ne manquez pas la tout
 e première édition du Salon des Vins Charlevoix au Fairmont Le Manoir Ric
 helieu a La Malbaie.Présidé par le sommelier Philippe Lapeyrie\,  l&#8217
 ;événement réunira plus de 25 exposants\,  des dégustations\,  un repas
  cocktail et du réseautage dans une ambiance[..]\nhttps://www.ville.lamalb
 aie.qc.ca/Les événements/salon-des-vins-charlevoix-2025/
URL:https://www.ville.lamalbaie.qc.ca/Les événements/salon-des-vins-charlevoix-2025/
END:VEVENT
END:VCALENDAR