BEGIN:VCALENDAR
VERSION:2.0
PRODID:-//eventon.com NONSGML v1.0//EN
CALSCALE:GREGORIAN
METHOD:PUBLISH
BEGIN:VEVENT
UID:69e8a9bd89e75
DTSTAMP:20260422T105805Z
DTSTART:20260317T161500Z
DTEND:20260317T170000Z
LOCATION:Complexe Sportif 104 rue Laure-Gaudreault
SUMMARY:Bain longueurs
DESCRIPTION:Horaire des bains longueurs en semaine à la piscine du Complex
 e Sportif\nhttps://www.ville.lamalbaie.qc.ca/Les événements/bain-longueur
 s/
URL:https://www.ville.lamalbaie.qc.ca/Les événements/bain-longueurs/
END:VEVENT
END:VCALENDAR